BEGIN:VCALENDAR
VERSION:2.0
PRODID:-//T-Hub Programs - ECPv6.5.1.6//NONSGML v1.0//EN
CALSCALE:GREGORIAN
METHOD:PUBLISH
X-ORIGINAL-URL:https://programs.t-hub.co
X-WR-CALDESC:Events for T-Hub Programs
REFRESH-INTERVAL;VALUE=DURATION:PT1H
X-Robots-Tag:noindex
X-PUBLISHED-TTL:PT1H
BEGIN:VTIMEZONE
TZID:Asia/Kolkata
BEGIN:STANDARD
TZOFFSETFROM:+0530
TZOFFSETTO:+0530
TZNAME:IST
DTSTART:20240101T000000
END:STANDARD
END:VTIMEZONE
BEGIN:VEVENT
DTSTART;TZID=Asia/Kolkata:20240226T100000
DTEND;TZID=Asia/Kolkata:20240226T180000
DTSTAMP:20260419T225551
CREATED:20240224T174857Z
LAST-MODIFIED:20240224T174959Z
UID:40148-1708941600-1708970400@programs.t-hub.co
SUMMARY:Innovate UK Visit
DESCRIPTION:POC – Ondrila\nOrganization – T-Hub\nVenue – The Marvel\nDescription – Innovate UK team visits and workshops for startup
URL:https://programs.t-hub.co/event/innovate-uk-visit/
ATTACH;FMTTYPE=image/jpeg:https://programs.t-hub.co/wp-content/uploads/2024/02/ev2.jpg
END:VEVENT
BEGIN:VEVENT
DTSTART;TZID=Asia/Kolkata:20240227T100000
DTEND;TZID=Asia/Kolkata:20240227T180000
DTSTAMP:20260419T225551
CREATED:20240224T175213Z
LAST-MODIFIED:20240224T175213Z
UID:40150-1709028000-1709056800@programs.t-hub.co
SUMMARY:Innovate UK team visit
DESCRIPTION:POC – Ondrila\nOrganization – T-Hub\nVenue – The Marvel\nDescription – Innovate UK team visits and workshops for startup
URL:https://programs.t-hub.co/event/innovate-uk-team-visit/
ATTACH;FMTTYPE=image/jpeg:https://programs.t-hub.co/wp-content/uploads/2024/02/virtual-reality_126283-1179.jpg
END:VEVENT
END:VCALENDAR